BEGIN:VCALENDAR
VERSION:2.0
PRODID:-//wp-events-plugin.com//7.2.3.1//EN
TZID:Europe/Paris
X-WR-TIMEZONE:Europe/Paris
BEGIN:VEVENT
UID:1796@cafeculturelcitoyen.org
DTSTART;TZID=Europe/Paris:20220730T203000
DTEND;TZID=Europe/Paris:20220730T213000
DTSTAMP:20220730T063725Z
URL:https://cafeculturelcitoyen.org/evenements/cafe-concert-un-nouveau-jou
 r-compagnie-artezique/
SUMMARY:Annulation du Café Concert - Un nouveau jour\, Compagnie Artéziqu
 e
DESCRIPTION:Pour des raisons de santé\, les artistes de ce soir ne pourron
 t se produire. en espérant les retrouver prochainement\, à la rentrée d
 u 3C.\n\n« UN NOUVEAU JOUR »\n\nPierre quitte sa femme Louise pour faire
  un « break ». On le voit sur un quai de gare contempler une affiche et 
 rêver devant ce paysage/sable fin/cocotiers. Puis il rencontre par hasard
  dans un bar cette fille qui faisait les cent pas en bas de chez lui.\n\nC
 ’est le début d’une histoire…\n\nAvec : Martine Faraldo\n\nSylvie H
 oebeke\n\nLaurent Hoebeke\n\nMusique : Laurent Hoebeke\n\ncontribution à 
 la mise en scène : Claire Prati et Frédérique Mazzieri.
ATTACH;FMTTYPE=image/jpeg:https://cafeculturelcitoyen.org/wp-content/uploa
 ds/2022/07/2-1.png
END:VEVENT
BEGIN:VTIMEZONE
TZID:Europe/Paris
X-LIC-LOCATION:Europe/Paris
BEGIN:DAYLIGHT
DTSTART:20220327T030000
TZOFFSETFROM:+0100
TZOFFSETTO:+0200
TZNAME:CEST
END:DAYLIGHT
END:VTIMEZONE
END:VCALENDAR