BEGIN:VCALENDAR
VERSION:2.0
PRODID:-//wp-events-plugin.com//7.2.3.1//EN
TZID:Europe/Paris
X-WR-TIMEZONE:Europe/Paris
BEGIN:VEVENT
UID:2564@cafeculturelcitoyen.org
DTSTART;TZID=Europe/Paris:20231209T204500
DTEND;TZID=Europe/Paris:20231209T230000
DTSTAMP:20231109T132040Z
URL:https://cafeculturelcitoyen.org/evenements/bouzouk-trio-_-jazz-mais-pa
 s-que/
SUMMARY:Bouzouk trio _ Jazz\, mais pas que...
DESCRIPTION:2eme partie de soirée : Bouzouk trio offre un voyage musical o
 ù se mêlent les sonorités\nacoustiques et une pointe d’électro au gr
 é des improvisations.
ATTACH;FMTTYPE=image/jpeg:https://cafeculturelcitoyen.org/wp-content/uploa
 ds/2023/11/Bouzouk-trio-au-3C.jpeg
END:VEVENT
BEGIN:VTIMEZONE
TZID:Europe/Paris
X-LIC-LOCATION:Europe/Paris
BEGIN:STANDARD
DTSTART:20231029T020000
TZOFFSETFROM:+0200
TZOFFSETTO:+0100
TZNAME:CET
END:STANDARD
END:VTIMEZONE
END:VCALENDAR