BEGIN:VCALENDAR
VERSION:2.0
PRODID:-//wp-events-plugin.com//7.2.3.1//EN
TZID:Europe/Paris
X-WR-TIMEZONE:Europe/Paris
BEGIN:VEVENT
UID:2651@cafeculturelcitoyen.org
DTSTART;TZID=Europe/Paris:20240103T200000
DTEND;TZID=Europe/Paris:20240103T220000
DTSTAMP:20231227T113104Z
URL:https://cafeculturelcitoyen.org/evenements/boeuf-jazz-manouche-37/
SUMMARY:Boeuf Jazz Manouche!
DESCRIPTION:Si vous souhaitez rencontrer d'autres musiciens\, jouer\, discu
 ter\, boire un verre... ou tout simplement écouter\, rendez vous au 3C po
 ur une soirée riche en swing. (Scène uniquement acoustique ouverte au mu
 sicien du style!).
ATTACH;FMTTYPE=image/jpeg:https://cafeculturelcitoyen.org/wp-content/uploa
 ds/2017/08/Boeuf-Jazz-Manouche.jpg
END:VEVENT
BEGIN:VTIMEZONE
TZID:Europe/Paris
X-LIC-LOCATION:Europe/Paris
BEGIN:STANDARD
DTSTART:20231029T020000
TZOFFSETFROM:+0200
TZOFFSETTO:+0100
TZNAME:CET
END:STANDARD
END:VTIMEZONE
END:VCALENDAR