BEGIN:VCALENDAR
VERSION:2.0
PRODID:-//wp-events-plugin.com//7.2.3.1//EN
TZID:Europe/Paris
X-WR-TIMEZONE:Europe/Paris
BEGIN:VEVENT
UID:1534@cafeculturelcitoyen.org
DTSTART;TZID=Europe/Paris:20220706T200000
DTEND;TZID=Europe/Paris:20220706T230000
DTSTAMP:20220621T123526Z
URL:https://cafeculturelcitoyen.org/evenements/boeuf-jazz-manouche-30/
SUMMARY:Le Boeuf Jazz Manouche vous donne rendez-vous en septembre
DESCRIPTION:Pas de boeuf ce mois-ci\, on se revoit en septembre\n\n\n\n\n\n
 \n\n\n\n\n\n\nCrédits Photo : Arnaud Ropars
ATTACH;FMTTYPE=image/jpeg:https://cafeculturelcitoyen.org/wp-content/uploa
 ds/2019/06/62607704_2284038785024686_2463930451752910848_n.jpg
END:VEVENT
BEGIN:VTIMEZONE
TZID:Europe/Paris
X-LIC-LOCATION:Europe/Paris
BEGIN:DAYLIGHT
DTSTART:20220327T030000
TZOFFSETFROM:+0100
TZOFFSETTO:+0200
TZNAME:CEST
END:DAYLIGHT
END:VTIMEZONE
END:VCALENDAR