BEGIN:VCALENDAR
VERSION:2.0
PRODID:-//wp-events-plugin.com//7.2.3.1//EN
TZID:Europe/Paris
X-WR-TIMEZONE:Europe/Paris
BEGIN:VEVENT
UID:1523@cafeculturelcitoyen.org
DTSTART;TZID=Europe/Paris:20220601T200000
DTEND;TZID=Europe/Paris:20220601T220000
DTSTAMP:20220516T122355Z
URL:https://cafeculturelcitoyen.org/evenements/boeuf-jazz-manouche-29/
SUMMARY:Boeuf Jazz Manouche !
DESCRIPTION:Si vous souhaitez rencontrer d'autres musicien-nes\, jouer\, di
 scuter\, boire un verre... ou tout simplement écouter\, rendez-vous au 3C
  pour une soirée riche en swing !\nScène uniquement acoustique ouverte a
 ux musicien-nes du style !\n____________________\nCrédits Photo : Arnaud 
 Ropars
ATTACH;FMTTYPE=image/jpeg:https://cafeculturelcitoyen.org/wp-content/uploa
 ds/2019/06/62607704_2284038785024686_2463930451752910848_n.jpg
END:VEVENT
BEGIN:VTIMEZONE
TZID:Europe/Paris
X-LIC-LOCATION:Europe/Paris
BEGIN:DAYLIGHT
DTSTART:20220327T030000
TZOFFSETFROM:+0100
TZOFFSETTO:+0200
TZNAME:CEST
END:DAYLIGHT
END:VTIMEZONE
END:VCALENDAR