BEGIN:VCALENDAR
VERSION:2.0
PRODID:-//wp-events-plugin.com//7.2.3.1//EN
TZID:Europe/Paris
X-WR-TIMEZONE:Europe/Paris
BEGIN:VEVENT
UID:2093@cafeculturelcitoyen.org
DTSTART;TZID=Europe/Paris:20231004T200000
DTEND;TZID=Europe/Paris:20231004T220000
DTSTAMP:20230222T095619Z
URL:https://cafeculturelcitoyen.org/evenements/boeuf-jazz-manouche-2023-10
 -04/
SUMMARY:Boeuf Jazz Manouche!
DESCRIPTION:Si vous souhaitez rencontrer d'autres musiciens\, jouer\, discu
 ter\, boire un verre... ou tout simplement écouter\, rendez vous au 3C po
 ur une soirée riche en swing. (Scène uniquement acoustique ouverte au mu
 sicien du style!).
ATTACH;FMTTYPE=image/jpeg:https://cafeculturelcitoyen.org/wp-content/uploa
 ds/2017/08/Boeuf-Jazz-Manouche.jpg
END:VEVENT
BEGIN:VTIMEZONE
TZID:Europe/Paris
X-LIC-LOCATION:Europe/Paris
BEGIN:DAYLIGHT
DTSTART:20230326T030000
TZOFFSETFROM:+0100
TZOFFSETTO:+0200
TZNAME:CEST
END:DAYLIGHT
END:VTIMEZONE
END:VCALENDAR