BEGIN:VCALENDAR
VERSION:2.0
PRODID:-//wp-events-plugin.com//7.2.3.1//EN
TZID:Europe/Paris
X-WR-TIMEZONE:Europe/Paris
BEGIN:VEVENT
UID:2623@cafeculturelcitoyen.org
DTSTART;TZID=Europe/Paris:20240217T153000
DTEND;TZID=Europe/Paris:20240217T163000
DTSTAMP:20231214T175531Z
URL:https://cafeculturelcitoyen.org/evenements/blanquette/
SUMMARY:Blanquette
DESCRIPTION:Connaissez-vous l’histoire de Blanquette\, cette petite chèv
 re qui\, comme beaucoup de ses semblables\, a voulu tenter le loup ?\n\nLa
  vie monotone chez le brave Seguin l’assomme. Elle se livre à son desti
 n tragique et\, happée par la montagne aux senteurs enivrantes\, s’adon
 ne aux doux plaisirs tant rêvés. Puis vient la nuit. A-t-elle eu tort ou
  raison ? Éprise de liberté\, terriblement têtue\, soulevant en nous le
 s choix les plus intimes de notre existence\, qui peut lui jeter la pierre
  à la Blanquette ? Un violon qui farandole avec un brin de romance et de 
 nostalgie\, un jeu juste et généreux\, quelques pitreries pour dompter l
 ’angoisse grandissante\, et un espoir naît que\, peut-être\, cette foi
 s-ci…\n\nVoici une proposition originale où l’on explore tous les rec
 oins du conte d’Alphonse Daudet dans une mise en scène de cadence joyeu
 se. Les enfants sont ravis\, et les parents étonnés.\nOn y retrouve tous
  les personnages\, le malheureux Seguin\, trop brave\, comme on dit en Pro
 vence \; la belle Blanquette\, notre chèvre insouciante\, éprise de libe
 rté \; et enfin\, le Loup\, ce personnage ambiguë fait d’attirance et 
 de répulsion\, qui devrait mettre en garde toutes celles et ceux qui rêv
 ent d’azur et de prairies luxuriantes.\n\nPhilippe raconte allègrement 
 et joue avec beaucoup de douceur. Relevant leurs angoisses et leurs désir
 s\, il virevolte entre les états d’âme de ses personnages.\n\nElvira i
 llustre le propos avec violon\, flûte\, petits instruments de percussion\
 , et de l’humour tendre\, même lorsqu’elle chante\, en lyrique\, s’
 il vous plaît\, les caprices de la petite chèvre.\n\n"Blanquette" une tr
 agédie burlesque pour les 3 à 103 ans.\nTexte: Alphonse DAUDET\nAvec Phi
 lippe TETON\, comédien\nElvira KIRKBRIDE\, mise en scène/violon/chant\nE
 ntrée libre\, participation aux frais.
ATTACH;FMTTYPE=image/jpeg:https://cafeculturelcitoyen.org/wp-content/uploa
 ds/2023/12/blanquette-e1702576504405.jpg
END:VEVENT
BEGIN:VTIMEZONE
TZID:Europe/Paris
X-LIC-LOCATION:Europe/Paris
BEGIN:STANDARD
DTSTART:20231029T020000
TZOFFSETFROM:+0200
TZOFFSETTO:+0100
TZNAME:CET
END:STANDARD
END:VTIMEZONE
END:VCALENDAR