BEGIN:VCALENDAR
VERSION:2.0
PRODID:-//wp-events-plugin.com//7.2.3.1//EN
TZID:Europe/Paris
X-WR-TIMEZONE:Europe/Paris
BEGIN:VEVENT
UID:1694@cafeculturelcitoyen.org
DTSTART;TZID=Europe/Paris:20220324T203000
DTEND;TZID=Europe/Paris:20220324T220000
DTSTAMP:20220314T120712Z
URL:https://cafeculturelcitoyen.org/evenements/bigjo-louliv-la-bio-equitab
 le/
SUMMARY:Concert BigJo & Louliv’\, la bio équitable !
DESCRIPTION:BigJo &amp\; Louliv ça commence sur la route\, par des discuss
 ions interminables tantôt pour refaire le monde\, tantôt pour blaguer sa
 ns filets. Ca continue autour d’une table\, pour faire bombance et griff
 onner des idées sur des bouts de papier. Ca se prolonge jusqu’au bout d
 e la nuit au milieu des gens\, à partager des chansons qui leur ressemble
 nt accompagnés de leurs « jouets» : une guitare et une clarinette.  
 Mots d’ordre : divertir\, émouvoir\, cogiter\, se marrer !
ATTACH;FMTTYPE=image/jpeg:https://cafeculturelcitoyen.org/wp-content/uploa
 ds/2022/03/nouveau-visuel-page-001.jpg
END:VEVENT
BEGIN:VTIMEZONE
TZID:Europe/Paris
X-LIC-LOCATION:Europe/Paris
BEGIN:STANDARD
DTSTART:20211031T020000
TZOFFSETFROM:+0200
TZOFFSETTO:+0100
TZNAME:CET
END:STANDARD
END:VTIMEZONE
END:VCALENDAR