BEGIN:VCALENDAR
VERSION:2.0
PRODID:-//wp-events-plugin.com//7.2.3.1//EN
TZID:Europe/Paris
X-WR-TIMEZONE:Europe/Paris
BEGIN:VEVENT
UID:2429@cafeculturelcitoyen.org
DTSTART;TZID=Europe/Paris:20231018T190000
DTEND;TZID=Europe/Paris:20231018T221500
DTSTAMP:20231012T112338Z
URL:https://cafeculturelcitoyen.org/evenements/big-jam-session/
SUMMARY:JAM JAM JAZZ // La Jam Jazz d'Aix
DESCRIPTION:La JAM JAM JAZZ c’est une séance d’improvisation musicale\
 , basée uniquement sur des standards de Jazz\, au 3C Café Culturel Citoy
 en à Aix-en-Provence. Si vous êtes un-e musicien-ne du style\, si vous s
 ouhaitez jouer deux ou trois morceaux\, discuter\, rencontrer\, boire un v
 erre\, manger une délicieuse terrine… ou simplement écouter\, vous êt
 es les bienvenues au 3C !\n\nEt si ça prend... on en fera un rendez-vous 
 régulier \;)\nJam organisée par C@thy et Guillaume L\, suivant un modèl
 e pragmatique :\n
ATTACH;FMTTYPE=image/jpeg:https://cafeculturelcitoyen.org/wp-content/uploa
 ds/2023/10/Capture-decran-2023-10-07-111347.png
END:VEVENT
BEGIN:VTIMEZONE
TZID:Europe/Paris
X-LIC-LOCATION:Europe/Paris
BEGIN:DAYLIGHT
DTSTART:20230326T030000
TZOFFSETFROM:+0100
TZOFFSETTO:+0200
TZNAME:CEST
END:DAYLIGHT
END:VTIMEZONE
END:VCALENDAR