BEGIN:VCALENDAR
VERSION:2.0
PRODID:-//wp-events-plugin.com//7.2.3.1//EN
TZID:Europe/Paris
X-WR-TIMEZONE:Europe/Paris
BEGIN:VEVENT
UID:2433@cafeculturelcitoyen.org
DTSTART;TZID=Europe/Paris:20231111T140000
DTEND;TZID=Europe/Paris:20231111T140000
DTSTAMP:20231010T135621Z
URL:https://cafeculturelcitoyen.org/evenements/biere-philo-3/
SUMMARY:Bière Philo
DESCRIPTION:Vous êtes les bienvenus au Bière Philo\, lieu\, ouvert à tou
 tes et à tous\, de papotages philosophiques plus ou moins inspirés par l
 a boisson.\n\nSi vous vous demandez quotidiennement : Qu’est-ce que le r
 ouge ? Faut-il (littéralement) cultiver son jardin ? Dieu est-il une femm
 e ? Le Bière Philo est l’occasion pour vous de trouver des réponses (o
 u pas en fait).\n\nRDV  : 1 samedi sur 2 à 14H
ATTACH;FMTTYPE=image/jpeg:https://cafeculturelcitoyen.org/wp-content/uploa
 ds/2023/10/images.jpeg
END:VEVENT
BEGIN:VTIMEZONE
TZID:Europe/Paris
X-LIC-LOCATION:Europe/Paris
BEGIN:STANDARD
DTSTART:20231029T020000
TZOFFSETFROM:+0200
TZOFFSETTO:+0100
TZNAME:CET
END:STANDARD
END:VTIMEZONE
END:VCALENDAR