BEGIN:VCALENDAR
VERSION:2.0
PRODID:-//wp-events-plugin.com//7.2.3.1//EN
TZID:Europe/Paris
X-WR-TIMEZONE:Europe/Paris
BEGIN:VEVENT
UID:1924@cafeculturelcitoyen.org
DTSTART;TZID=Europe/Paris:20221029T110000
DTEND;TZID=Europe/Paris:20221029T170000
DTSTAMP:20221028T145925Z
URL:https://cafeculturelcitoyen.org/evenements/besoin-de-toi-pour-le-grand
 -menage-du-3c-6/
SUMMARY:Besoin de Toi pour le grand ménage du 3C !
DESCRIPTION:L'heure du ménage d'Automne est arrivée !\nLe grand ménage s
 era ce samedi 29 octobre de 11h à 17h - venez nous aider à tout faire br
 iller !
ATTACH;FMTTYPE=image/jpeg:https://cafeculturelcitoyen.org/wp-content/uploa
 ds/2019/06/clean-3296013_960_720.jpg
END:VEVENT
BEGIN:VTIMEZONE
TZID:Europe/Paris
X-LIC-LOCATION:Europe/Paris
BEGIN:DAYLIGHT
DTSTART:20220327T030000
TZOFFSETFROM:+0100
TZOFFSETTO:+0200
TZNAME:CEST
END:DAYLIGHT
END:VTIMEZONE
END:VCALENDAR