BEGIN:VCALENDAR
VERSION:2.0
PRODID:-//wp-events-plugin.com//7.2.3.1//EN
TZID:Europe/Paris
X-WR-TIMEZONE:Europe/Paris
BEGIN:VEVENT
UID:1732@cafeculturelcitoyen.org
DTSTART;TZID=Europe/Paris:20220515T100000
DTEND;TZID=Europe/Paris:20220515T220000
DTSTAMP:20220509T164620Z
URL:https://cafeculturelcitoyen.org/evenements/besoin-de-toi-pour-le-grand
 -menage-du-3c-5/
SUMMARY:Besoin de Toi pour le grand ménage du 3C !
DESCRIPTION:Le 3C est un lieu  vivant et convivial qui évolue et s'enrich
 it grâce à l'implication de nombreu-x-ses citoyen-nes. Le bon temps arri
 ve et le 3C a besoin d’un grand nettoyage et plus nous serons nombreux p
 lus ce sera facile.\n&nbsp\;\n\nSi tu veux te joindre à nous\, c’est si
 mple\, clique ici et ajoute ton nom aux horaires qui te conviennent.\n&nbs
 p\;\n\nSi par contre\, tu préfères nous apporter un petit plat pour rest
 aurer ceux qui frottent\, merci beaucoup ! (il est aussi possible de faire
  les deux).\n\n&nbsp\;\nDans tous les cas\, les bassines sont les bienvenu
 es.\nLe dimanche 15 mai de 10h à 17h.\n\n&nbsp\;\nMerci par avance de ta 
 présence !\n&nbsp\;
ATTACH;FMTTYPE=image/jpeg:https://cafeculturelcitoyen.org/wp-content/uploa
 ds/2020/01/banniere3C.jpg
END:VEVENT
BEGIN:VTIMEZONE
TZID:Europe/Paris
X-LIC-LOCATION:Europe/Paris
BEGIN:DAYLIGHT
DTSTART:20220327T030000
TZOFFSETFROM:+0100
TZOFFSETTO:+0200
TZNAME:CEST
END:DAYLIGHT
END:VTIMEZONE
END:VCALENDAR