BEGIN:VCALENDAR
VERSION:2.0
PRODID:-//wp-events-plugin.com//7.2.3.1//EN
TZID:Europe/Paris
X-WR-TIMEZONE:Europe/Paris
BEGIN:VEVENT
UID:106@cafeculturelcitoyen.org
DTSTART;TZID=Europe/Paris:20220617T200000
DTEND;TZID=Europe/Paris:20220617T223000
DTSTAMP:20220601T174119Z
URL:https://cafeculturelcitoyen.org/evenements/baleti-du-3c/
SUMMARY:Balèti du 3C - Annulé !
DESCRIPTION:Attention\, le Baléti qui se tient normalement une fois par mo
 is au Café\, n'aura pas lieu au 3C mais aux Allées provençales. Après 
 cette date\, Aix Baléti prendra des vacances et reviendra an septembre !\
 n\n&nbsp\;
ATTACH;FMTTYPE=image/jpeg:https://cafeculturelcitoyen.org/wp-content/uploa
 ds/2017/09/Baleti.jpg
END:VEVENT
BEGIN:VTIMEZONE
TZID:Europe/Paris
X-LIC-LOCATION:Europe/Paris
BEGIN:DAYLIGHT
DTSTART:20220327T030000
TZOFFSETFROM:+0100
TZOFFSETTO:+0200
TZNAME:CEST
END:DAYLIGHT
END:VTIMEZONE
END:VCALENDAR