BEGIN:VCALENDAR
VERSION:2.0
PRODID:-//wp-events-plugin.com//7.2.3.1//EN
TZID:Europe/Paris
X-WR-TIMEZONE:Europe/Paris
BEGIN:VEVENT
UID:1973@cafeculturelcitoyen.org
DTSTART;TZID=Europe/Paris:20230217T203000
DTEND;TZID=Europe/Paris:20230217T223000
DTSTAMP:20230208T142523Z
URL:https://cafeculturelcitoyen.org/evenements/baleti-du-3c-avec-lu-barbal
 ucou-2/
SUMMARY:Baléti avec Jean Louis Todisco
DESCRIPTION:Vous voulez danser ?! Sans pression et avec beaucoup d’entrai
 n ?! N’hésitez plus venez au balèti !! Bal populaire avec un groupe li
 ve. Répertoire musique trad.\nCette-fois ci le Balèti sera animé par Je
 an-Louis TODISCO. \n&nbsp\;\n\n&nbsp\;
ATTACH;FMTTYPE=image/jpeg:https://cafeculturelcitoyen.org/wp-content/uploa
 ds/2022/12/Capture-decran-2023-02-08-151933.jpg
END:VEVENT
BEGIN:VTIMEZONE
TZID:Europe/Paris
X-LIC-LOCATION:Europe/Paris
BEGIN:STANDARD
DTSTART:20221030T020000
TZOFFSETFROM:+0200
TZOFFSETTO:+0100
TZNAME:CET
END:STANDARD
END:VTIMEZONE
END:VCALENDAR