BEGIN:VCALENDAR
VERSION:2.0
PRODID:-//wp-events-plugin.com//7.2.3.1//EN
TZID:Europe/Paris
X-WR-TIMEZONE:Europe/Paris
BEGIN:VEVENT
UID:2739@cafeculturelcitoyen.org
DTSTART;TZID=Europe/Paris:20240216T203000
DTEND;TZID=Europe/Paris:20240216T230000
DTSTAMP:20240129T125703Z
URL:https://cafeculturelcitoyen.org/evenements/baleti-du-3c-20240216/
SUMMARY:Le Balèti du 3C !
DESCRIPTION:Le 3C et l'asso Aix Balèti vous invite pour le bal mensuel du 
 3C\, tous les 3ème vendredis du mois.\n&nbsp\;\nAujourd'hui c'est avec le
  groupe TROLL'\nVenus d'horizons musicaux différents\, ces trois musicien
 s proposent des airs à la fois mélodiques et toniques qui vous donneront
  des fourmis dans les jambes.\nKathryn Leuchter (flûtes et violon) René 
 Delcourt (guitare) et Bruno Martins (contrebasse)\ncomposent ce trio de mu
 sique folk/trad à danser ou à écouter.\nSur des airs venus d'Irlande\, 
 d’Écosse\, de Suède\, de Bretagne et d'ailleurs\, leur énergie\ncommu
 nicative vous portera sur les danses telles que cercles\, scottish\, valse
 s\, bourrées et\ntant d'autres !
ATTACH;FMTTYPE=image/jpeg:https://cafeculturelcitoyen.org/wp-content/uploa
 ds/2024/01/Beleti_Troll_20240216.jpg
END:VEVENT
BEGIN:VTIMEZONE
TZID:Europe/Paris
X-LIC-LOCATION:Europe/Paris
BEGIN:STANDARD
DTSTART:20231029T020000
TZOFFSETFROM:+0200
TZOFFSETTO:+0100
TZNAME:CET
END:STANDARD
END:VTIMEZONE
END:VCALENDAR