BEGIN:VCALENDAR
VERSION:2.0
PRODID:-//wp-events-plugin.com//7.2.3.1//EN
TZID:Europe/Paris
X-WR-TIMEZONE:Europe/Paris
BEGIN:VEVENT
UID:2385@cafeculturelcitoyen.org
DTSTART;TZID=Europe/Paris:20231019T203000
DTEND;TZID=Europe/Paris:20231019T223000
DTSTAMP:20231014T070254Z
URL:https://cafeculturelcitoyen.org/evenements/baleti-avec-zef/
SUMMARY:Baléti avec ZEF !
DESCRIPTION:Entrez dans des danses d'ici\; tournez sur des airs de là\, de
  là-bas\, de partout.\nZEF c'est une histoire d'amis\, de musiques\, de v
 oyages\, de rigolades et de bonnes bouffes. ...Une envie commune de bouscu
 ler les convenances\, et d'entraîner les danseurs dans une ronde à bout 
 de souffle ! ...Un mélange de personnalités fortes\, une tempête color
 ée sur scène. ...Energie vivifiante de l'ouragan ZEF.\nÈt pour que le m
 istral se propage\, faites danser vos mains\, tourbillonner vos doigts sur
  ces quelques airs bien a eux.\nPar un grand effet papillon\, que le Zef s
 e répande et s'amplifie !\n\nConcerts et bals\, une musique électrisante
 \, hypnotique\, du néo-trad aux musiques actuelles.
ATTACH;FMTTYPE=image/jpeg:https://cafeculturelcitoyen.org/wp-content/uploa
 ds/2023/09/Zef-2017-cd-scaled.jpg
END:VEVENT
BEGIN:VTIMEZONE
TZID:Europe/Paris
X-LIC-LOCATION:Europe/Paris
BEGIN:DAYLIGHT
DTSTART:20230326T030000
TZOFFSETFROM:+0100
TZOFFSETTO:+0200
TZNAME:CEST
END:DAYLIGHT
END:VTIMEZONE
END:VCALENDAR