BEGIN:VCALENDAR
VERSION:2.0
PRODID:-//wp-events-plugin.com//7.2.3.1//EN
TZID:Europe/Paris
X-WR-TIMEZONE:Europe/Paris
BEGIN:VEVENT
UID:2132@cafeculturelcitoyen.org
DTSTART;TZID=Europe/Paris:20230317T203000
DTEND;TZID=Europe/Paris:20230317T220000
DTSTAMP:20230227T151625Z
URL:https://cafeculturelcitoyen.org/evenements/baleti-avec-tradzou/
SUMMARY:Baléti avec Tradzou !
DESCRIPTION:
ATTACH;FMTTYPE=image/jpeg:https://cafeculturelcitoyen.org/wp-content/uploa
 ds/2023/02/Capture-decran-2023-02-26-200749-2-.jpeg
END:VEVENT
BEGIN:VTIMEZONE
TZID:Europe/Paris
X-LIC-LOCATION:Europe/Paris
BEGIN:STANDARD
DTSTART:20221030T020000
TZOFFSETFROM:+0200
TZOFFSETTO:+0100
TZNAME:CET
END:STANDARD
END:VTIMEZONE
END:VCALENDAR