BEGIN:VCALENDAR
VERSION:2.0
PRODID:-//wp-events-plugin.com//7.2.3.1//EN
TZID:Europe/Paris
X-WR-TIMEZONE:Europe/Paris
BEGIN:VEVENT
UID:1204@cafeculturelcitoyen.org
DTSTART;TZID=Europe/Paris:20231125T203000
DTEND;TZID=Europe/Paris:20231125T230000
DTSTAMP:20231027T164219Z
URL:https://cafeculturelcitoyen.org/evenements/bal-de-noel-au-3c-avec-les-
 gouelands/
SUMMARY:Bal au 3C avec les Gouëlands
DESCRIPTION:\n\n\n\nBal Folk Breton animé par les Gouëlands. Ce sera l'oc
 casion de vous présenter quelques nouveaux arrangements de nos morceaux e
 t surtout de vous faire danser aussi bien sur des danses bretonnes que tra
 ditionnelles d'ailleurs\n\n\nhttp://www.facebook.com/gouelands‌\nhttps:/
 /sites.google.com/view/gouelands‌\n\n\n\n
ATTACH;FMTTYPE=image/jpeg:https://cafeculturelcitoyen.org/wp-content/uploa
 ds/2018/09/guelandsn.jpg
END:VEVENT
BEGIN:VTIMEZONE
TZID:Europe/Paris
X-LIC-LOCATION:Europe/Paris
BEGIN:STANDARD
DTSTART:20231029T020000
TZOFFSETFROM:+0200
TZOFFSETTO:+0100
TZNAME:CET
END:STANDARD
END:VTIMEZONE
END:VCALENDAR