BEGIN:VCALENDAR
VERSION:2.0
PRODID:-//wp-events-plugin.com//7.2.3.1//EN
TZID:Europe/Paris
X-WR-TIMEZONE:Europe/Paris
BEGIN:VEVENT
UID:2743@cafeculturelcitoyen.org
DTSTART;TZID=Europe/Paris:20240203T150000
DTEND;TZID=Europe/Paris:20240203T170000
DTSTAMP:20240130T161852Z
URL:https://cafeculturelcitoyen.org/evenements/attac/
SUMMARY:Invitation au pot d'accueil d'Attac pays d'Aix
DESCRIPTION:samedi 3 juin à 15h\n\nVous avez adhéré à Attac ou vous vou
 s êtes inscrit.e.s à notre mailing liste en 2023\, et même en 2024\, vo
 ire il y a plus longtemps?\n\nNous vous invitons à notre pot d'accueil\, 
 ce sera l'occasion de vous présenter Attac\, son historique et son foncti
 onnement\, ainsi que notre activité localement\, d'échanger sur vos atte
 ntes\, vos propositions\, comment participer aux actions de notre comité\
 , ou faire simplement connaissance.\n\nMerci de nous informer de votre pr
 ésence pour des questions logistiques sur aix@attac.org.\n\nAu 3 févrie
 r nous espérons!
ATTACH;FMTTYPE=image/jpeg:https://cafeculturelcitoyen.org/wp-content/uploa
 ds/2024/01/Accueil-Attac-.png
END:VEVENT
BEGIN:VTIMEZONE
TZID:Europe/Paris
X-LIC-LOCATION:Europe/Paris
BEGIN:STANDARD
DTSTART:20231029T020000
TZOFFSETFROM:+0200
TZOFFSETTO:+0100
TZNAME:CET
END:STANDARD
END:VTIMEZONE
END:VCALENDAR