BEGIN:VCALENDAR
VERSION:2.0
PRODID:-//wp-events-plugin.com//7.2.3.1//EN
TZID:Europe/Paris
X-WR-TIMEZONE:Europe/Paris
BEGIN:VEVENT
UID:2358@cafeculturelcitoyen.org
DTSTART;TZID=Europe/Paris:20230919T193000
DTEND;TZID=Europe/Paris:20230919T223000
DTSTAMP:20230825T174628Z
URL:https://cafeculturelcitoyen.org/evenements/attac-pays-daix-fait-sa-ren
 tree-au-3c-2/
SUMMARY:Attac pays d'Aix fait sa rentrée au 3C
DESCRIPTION:Attac pays d'Aix fait sa rentrée au 3C\n\nNous invitons nos ad
 hérent.e.s\, sympathisant.e.s\, partenaires\, celles et ceux qui nous ont
  rencontrées au Forum des assos\, celles et ceux qui ne nous ont pas enco
 re rencontrées\,  à venir s'informer et échanger sur nos actions à ve
 nir.\n\nPrésentation de nos luttes actuelles (justice sociale\, fiscale e
 t climatique)\, globales et locales\, de nos formes d'actions variées (th
 éâtre forum\, danses\, actions de rue)\, un petit retour sur l'Universit
 é d'Eté des Mouvements Sociaux et des Solidarités de fin août à Bobig
 ny...\n\nBref\, vous voulez en savoir plus sur Attac qui fête ses 25 ans\
 , vous impliquer ou pas ou ponctuellement\, on vous attend !
ATTACH;FMTTYPE=image/jpeg:https://cafeculturelcitoyen.org/wp-content/uploa
 ds/2023/06/logo-attac.gif
END:VEVENT
BEGIN:VTIMEZONE
TZID:Europe/Paris
X-LIC-LOCATION:Europe/Paris
BEGIN:DAYLIGHT
DTSTART:20230326T030000
TZOFFSETFROM:+0100
TZOFFSETTO:+0200
TZNAME:CEST
END:DAYLIGHT
END:VTIMEZONE
END:VCALENDAR