BEGIN:VCALENDAR
VERSION:2.0
PRODID:-//wp-events-plugin.com//7.2.3.1//EN
TZID:Europe/Paris
X-WR-TIMEZONE:Europe/Paris
BEGIN:VEVENT
UID:2258@cafeculturelcitoyen.org
DTSTART;TZID=Europe/Paris:20230506T140000
DTEND;TZID=Europe/Paris:20230506T170000
DTSTAMP:20230429T154858Z
URL:https://cafeculturelcitoyen.org/evenements/atelier-tissage-colombien/
SUMMARY:Atelier tissage colombien
DESCRIPTION:\n\nRécupérer les savoirs ancestraux du métier à tisser\, d
 ans un art avec une longue tradition de sagesse et de savoir faire.\n\n\nA
 telier animé par Alexandra Sarmiento\, enseignante du métier depuis 30 a
 ns\n\n\nAtelier à prix libre et consciente à partir de 5€ - Matériel 
 fourni\n\nCapacité maximale 10 participants\, inscription au programmatio
 nle3c@gmail.com\n\n
ATTACH;FMTTYPE=image/jpeg:https://cafeculturelcitoyen.org/wp-content/uploa
 ds/2023/04/1.png
END:VEVENT
BEGIN:VTIMEZONE
TZID:Europe/Paris
X-LIC-LOCATION:Europe/Paris
BEGIN:DAYLIGHT
DTSTART:20230326T030000
TZOFFSETFROM:+0100
TZOFFSETTO:+0200
TZNAME:CEST
END:DAYLIGHT
END:VTIMEZONE
END:VCALENDAR