BEGIN:VCALENDAR
VERSION:2.0
PRODID:-//wp-events-plugin.com//7.2.3.1//EN
TZID:Europe/Paris
X-WR-TIMEZONE:Europe/Paris
BEGIN:VEVENT
UID:1730@cafeculturelcitoyen.org
DTSTART;TZID=Europe/Paris:20220521T160000
DTEND;TZID=Europe/Paris:20220521T170000
DTSTAMP:20220505T163207Z
URL:https://cafeculturelcitoyen.org/evenements/atelier-sur-le-feminin-sacr
 e/
SUMMARY:Atelier sur le féminin sacré
DESCRIPTION:Au travers de cet atelier je vous indiquerai comment reprendre 
 contact avec votre puissance créatrice logée dans votre bassin et égale
 ment comment guérir vos blessures du féminin. Ensuite je vous inviterai 
 à plonger en vous-même dans vos profondeurs\, afin de vous re-connecter 
 à votre féminin sacré accompagné-e-s de mon tambour chamanique et de m
 a voix. À apporter : un tapis (style yoga) ou autre pour vous allonger co
 nfortablement sur le sol pendant la pratique.
ATTACH;FMTTYPE=image/jpeg:https://cafeculturelcitoyen.org/wp-content/uploa
 ds/2022/05/Ben.jpg
END:VEVENT
BEGIN:VTIMEZONE
TZID:Europe/Paris
X-LIC-LOCATION:Europe/Paris
BEGIN:DAYLIGHT
DTSTART:20220327T030000
TZOFFSETFROM:+0100
TZOFFSETTO:+0200
TZNAME:CEST
END:DAYLIGHT
END:VTIMEZONE
END:VCALENDAR