BEGIN:VCALENDAR
VERSION:2.0
PRODID:-//wp-events-plugin.com//7.2.3.1//EN
TZID:Europe/Paris
X-WR-TIMEZONE:Europe/Paris
BEGIN:VEVENT
UID:1751@cafeculturelcitoyen.org
DTSTART;TZID=Europe/Paris:20220616T170000
DTEND;TZID=Europe/Paris:20220616T180000
DTSTAMP:20220530T142816Z
URL:https://cafeculturelcitoyen.org/evenements/atelier-sophrologie/
SUMMARY:Atelier - Sophrologie
DESCRIPTION:C'est toujours avec plaisir que je reviens au Café 3C pour une
  séance\nde sophrologie. Une parenthèse hors du temps\, ce moment à soi
 \, rien qu'à\nsoi. Une heure pour se retrouver.\n\nRetrouvez Sophie Lacou
 r pour une séance de sophrologie. Ça se passera dans le Hammam
ATTACH;FMTTYPE=image/jpeg:https://cafeculturelcitoyen.org/wp-content/uploa
 ds/2022/05/Capture-decran-2022-05-27-124758.jpg
END:VEVENT
BEGIN:VTIMEZONE
TZID:Europe/Paris
X-LIC-LOCATION:Europe/Paris
BEGIN:DAYLIGHT
DTSTART:20220327T030000
TZOFFSETFROM:+0100
TZOFFSETTO:+0200
TZNAME:CEST
END:DAYLIGHT
END:VTIMEZONE
END:VCALENDAR