BEGIN:VCALENDAR
VERSION:2.0
PRODID:-//wp-events-plugin.com//7.2.3.1//EN
TZID:Europe/Paris
X-WR-TIMEZONE:Europe/Paris
BEGIN:VEVENT
UID:1998@cafeculturelcitoyen.org
DTSTART;TZID=Europe/Paris:20230121T110000
DTEND;TZID=Europe/Paris:20230121T123000
DTSTAMP:20230111T093832Z
URL:https://cafeculturelcitoyen.org/evenements/atelier-sophrologie-avec-ro
 bert-douillet/
SUMMARY:Atelier sophrologie avec Robert Douillet
DESCRIPTION:Je vous invite de 11h à 12h30  à découvrir la sophrologie :
  une pratique douce et efficace pour accéder au mieux-être.\nJe vous tra
 nsmettrai les bases théoriques de la sophrologie\, belle synergie entre l
 es sciences occidentales et la sagesse orientale.\nPuis\, nous expériment
 erons ensemble ses bienfaits en déroulant une séance complète\, car seu
 le la pratique est vraiment éclairante. Enfin\, nous pourrons échanger s
 ur l’apport des huiles essentielles comme levier de la pratique sophrolo
 gique.\nPour plus d’informations\, lisez le texte ci-joint\, et si vous 
 êtes intéressés\, merci de vous inscrire par courriel à l’adresse su
 ivante : douillet.robert@wanadoo.fr\nNous limiterons le nombre de particip
 ants à neuf personnes pour privilégier la convivialité et respecter les
  consignes sanitaires.\n\nPrière de s'inscrire au minimum 48h à l'avance
ATTACH;FMTTYPE=image/jpeg:https://cafeculturelcitoyen.org/wp-content/uploa
 ds/2023/01/Capture-decran-2023-01-01-100942.png
END:VEVENT
BEGIN:VTIMEZONE
TZID:Europe/Paris
X-LIC-LOCATION:Europe/Paris
BEGIN:STANDARD
DTSTART:20221030T020000
TZOFFSETFROM:+0200
TZOFFSETTO:+0100
TZNAME:CET
END:STANDARD
END:VTIMEZONE
END:VCALENDAR