BEGIN:VCALENDAR
VERSION:2.0
PRODID:-//wp-events-plugin.com//7.2.3.1//EN
TZID:Europe/Paris
X-WR-TIMEZONE:Europe/Paris
BEGIN:VEVENT
UID:2310@cafeculturelcitoyen.org
DTSTART;TZID=Europe/Paris:20230607T170000
DTEND;TZID=Europe/Paris:20230607T200000
DTSTAMP:20230607T151404Z
URL:https://cafeculturelcitoyen.org/evenements/atelier-pancartes-pou-la-ma
 rche-du-3c/
SUMMARY:Atelier pancartes pour la marche du 3C
DESCRIPTION:Vous voulez participer aux événements des 10 ans du 3C venez 
 ce soir à l'atelier Pancartes pour préparer la marche du 3C de samedi pr
 ochain
ATTACH;FMTTYPE=image/jpeg:https://cafeculturelcitoyen.org/wp-content/uploa
 ds/2023/06/Capture-decran-2023-06-07-171316.jpg
END:VEVENT
BEGIN:VTIMEZONE
TZID:Europe/Paris
X-LIC-LOCATION:Europe/Paris
BEGIN:DAYLIGHT
DTSTART:20230326T030000
TZOFFSETFROM:+0100
TZOFFSETTO:+0200
TZNAME:CEST
END:DAYLIGHT
END:VTIMEZONE
END:VCALENDAR