BEGIN:VCALENDAR
VERSION:2.0
PRODID:-//wp-events-plugin.com//7.2.3.1//EN
TZID:Europe/Paris
X-WR-TIMEZONE:Europe/Paris
BEGIN:VEVENT
UID:1777@cafeculturelcitoyen.org
DTSTART;TZID=Europe/Paris:20220702T143000
DTEND;TZID=Europe/Paris:20220702T160000
DTSTAMP:20220623T113344Z
URL:https://cafeculturelcitoyen.org/evenements/atelier-meditation-training
 -mental/
SUMMARY:Atelier Méditation - Training mental
DESCRIPTION:Training mental : Venez apprendre une technique de concentratio
 n puissante qui vous permettra de calmer votre esprit et le mettre au serv
 ice de votre bien-être\, votre santé mentale et physique...\n\nLa techni
 que enseignée est ancestrale mais son approche pédagogique est résolume
 nt moderne et innovante : une série d'exercices courts et simples et des 
 consignes claires pour vous permettre d'expérimenter en fin de cet unique
  cours d'une heure un état de légèreté\, de calme et de silence intér
 ieur.\n\nVous repartirez chez vous avec un outil puissant et efficace à u
 tiliser en toute circonstance.\n\nAlors n'hésitez pas à vous jeter dans 
 la pataugeoire de votre mental\, je vous y apprendrai à nager la tête ho
 rs de l'eau.\n\nTarif : 5€ ou plus si vous voulez\n\nNeo Tsubaki@yahoo.c
 om\n\n06 25 68 01 83
ATTACH;FMTTYPE=image/jpeg:https://cafeculturelcitoyen.org/wp-content/uploa
 ds/2022/06/Capture-decran-2022-06-21-090305.jpg
END:VEVENT
BEGIN:VTIMEZONE
TZID:Europe/Paris
X-LIC-LOCATION:Europe/Paris
BEGIN:DAYLIGHT
DTSTART:20220327T030000
TZOFFSETFROM:+0100
TZOFFSETTO:+0200
TZNAME:CEST
END:DAYLIGHT
END:VTIMEZONE
END:VCALENDAR