BEGIN:VCALENDAR
VERSION:2.0
PRODID:-//wp-events-plugin.com//7.2.3.1//EN
TZID:Europe/Paris
X-WR-TIMEZONE:Europe/Paris
BEGIN:VEVENT
UID:2453@cafeculturelcitoyen.org
DTSTART;TZID=Europe/Paris:20240106T190000
DTEND;TZID=Europe/Paris:20240106T230000
DTSTAMP:20240106T103300Z
URL:https://cafeculturelcitoyen.org/evenements/atelier-decriture-slam/
SUMMARY:Vernissage d'Ali
DESCRIPTION:Ali expose au 3C tout le mois de janvier 2024 !\n\nIl utilise d
 es matériaux de récupération pour peindre\, souvent dans la rue. Par ex
 emple du vernis à ongles\, pots de peinture\, ou système d'accroche\, tr
 ouvés ou donnés\; il récupère aussi des cadres abimés qu'il transform
 e selon ses besoins. Ses sujets sont variés comme des paysages\, des anim
 aux\, des personnages.\n\nVenez jouer\, rire\, danser pour son vernissage 
 !
ATTACH;FMTTYPE=image/jpeg:https://cafeculturelcitoyen.org/wp-content/uploa
 ds/2023/10/tableau-ali.jpeg
END:VEVENT
BEGIN:VTIMEZONE
TZID:Europe/Paris
X-LIC-LOCATION:Europe/Paris
BEGIN:STANDARD
DTSTART:20231029T020000
TZOFFSETFROM:+0200
TZOFFSETTO:+0100
TZNAME:CET
END:STANDARD
END:VTIMEZONE
END:VCALENDAR