BEGIN:VCALENDAR
VERSION:2.0
PRODID:-//wp-events-plugin.com//7.2.3.1//EN
TZID:Europe/Paris
X-WR-TIMEZONE:Europe/Paris
BEGIN:VEVENT
UID:1653@cafeculturelcitoyen.org
DTSTART;TZID=Europe/Paris:20220623T170000
DTEND;TZID=Europe/Paris:20220623T183000
DTSTAMP:20220609T134112Z
URL:https://cafeculturelcitoyen.org/evenements/atelier-decriture-salle-ham
 mam/
SUMMARY:Atelier d'écriture (salle hammam)
DESCRIPTION:Je me présente\, je suis Marilène Vigroux\, je suis artiste-a
 uteur. J'écris des essais\, des romans et je fais des arts plastiques. J'
 aime venir partager mes recherches autour d'ateliers d'écriture.\nIl y a 
 plein de façon très différentes d'animer un atelier d'écriture. Moi je
  viens partager avec vous une expérience d'écriture. Je dis expérience 
 d'écriture parce qu'on va se dire : qu'allons-nous vivre avec cet acte q
 u'est écrire ? Et qu'est-ce qui va s'inventer ?\nVoilà comment se dér
 oulent mes ateliers d'écriture :\nJ'arrive avec un thème souvent assez 
 énigmatique (c'est fait exprès). J'ai préparé un petit texte sur ce th
 ème que je vous lis. C'est un texte pour se perdre. Chacun est invité à
  s'autoriser à se perdre au lieu de chercher à comprendre ce qu'il faudr
 ait comprendre. Chacun est invité à prendre ce qui lui parle\, à se l'i
 nterpréter\, ou rêver à ce que ça lui évoque\, et à laisser tomber l
 e reste à ne pas essayer de saisir les choses pour faire un tout.\nUne fo
 is qu'on est bien perdu\, là stop\, on se pose tranquillement dans une ta
 che très simple\, très concrète. On lit ensemble des textes que j’am
 ène\, un petit bout chacun\, à voix haute. Le texte fait le tour de la t
 able. Et pendant qu'une voix est en train de lire\, on note des mots\, des
  mots du texte\, ceux qui nous accrochent sans réfléchir à leur utilit
 é. Ce moment est très important car on va entendre des voix différentes
  (différente de la mienne\, différente de chacun\, différente de notre 
 voix intérieure) cela donne plein de couleurs et de textures aux mots.\nE
 nsuite vient le moment d'une petite consigne d'écriture que j'invente (co
 nsigne que l'on peut détourner\, renverser\, s'approprier autrement\, tra
 nsformer à sa sauce si on le souhaite) :\nUne partie de la consigne est t
 rès bizarre\, on ne comprends pas ce qu'il faut faire. Une autre partie d
 e la consigne est très concrète. Dans le texte que l’on écrira\, on u
 tilisera des mots que l'on a noté\, on y prendra appui mais pas seulement
 . Ces mots\, ce sont aussi eux qui vont faire que l'on ne va pas seulement
  dérouler une petite voix intérieure qui nous ferait écrire car ces mot
 s vont perturber cette petite voix car ils viennent de dehors. Ils vont no
 us faire vivre des surprises car notre texte prendra des chemins auxquels 
 nous n'aurions pas pensé.\n Les derniers moments de l'atelier sont : la 
 lecture de nos textes et pour finir un petit moment d'échange sur ce que 
 nous avons vécu pendant l'atelier.\n&nbsp\;\n\n&nbsp\;\n\n&nbsp\;\n\n&nbs
 p\;
ATTACH;FMTTYPE=image/jpeg:https://cafeculturelcitoyen.org/wp-content/uploa
 ds/2022/01/Sans-titre52-e1641225207482.jpg
END:VEVENT
BEGIN:VTIMEZONE
TZID:Europe/Paris
X-LIC-LOCATION:Europe/Paris
BEGIN:DAYLIGHT
DTSTART:20220327T030000
TZOFFSETFROM:+0100
TZOFFSETTO:+0200
TZNAME:CEST
END:DAYLIGHT
END:VTIMEZONE
END:VCALENDAR