BEGIN:VCALENDAR
VERSION:2.0
PRODID:-//wp-events-plugin.com//7.2.3.1//EN
TZID:Europe/Paris
X-WR-TIMEZONE:Europe/Paris
BEGIN:VEVENT
UID:2372@cafeculturelcitoyen.org
DTSTART;TZID=Europe/Paris:20231011T193000
DTEND;TZID=Europe/Paris:20231011T220000
DTSTAMP:20231005T091316Z
URL:https://cafeculturelcitoyen.org/evenements/atelier-decriture-des-vies-
 orageuses/
SUMMARY:Atelier d'écriture - Des vies orageuses
DESCRIPTION:En préparation de la conférence du jeudi suivant\, l'équipe 
 du livre "Des vies orageuses proposera un atelier d'écriture autour des t
 hématiques de l'exil\, de l'accueil...\nATELIERS D’ECRITURE (2h)\nPour 
 écrire ensemble\, tenir récit de ceux qui nous accueillent\, ceux que no
 us accueillons.\nAucune expérience en termes d’écriture n’est néces
 saire.\nTout public à partir de 15 ans\, groupe entre 7 et 12 personnes.
ATTACH;FMTTYPE=image/jpeg:https://cafeculturelcitoyen.org/wp-content/uploa
 ds/2023/09/Vies-orageuses.png
END:VEVENT
BEGIN:VTIMEZONE
TZID:Europe/Paris
X-LIC-LOCATION:Europe/Paris
BEGIN:DAYLIGHT
DTSTART:20230326T030000
TZOFFSETFROM:+0100
TZOFFSETTO:+0200
TZNAME:CEST
END:DAYLIGHT
END:VTIMEZONE
END:VCALENDAR