BEGIN:VCALENDAR
VERSION:2.0
PRODID:-//wp-events-plugin.com//7.2.3.1//EN
TZID:Europe/Paris
X-WR-TIMEZONE:Europe/Paris
BEGIN:VEVENT
UID:2377@cafeculturelcitoyen.org
DTSTART;TZID=Europe/Paris:20231104T150000
DTEND;TZID=Europe/Paris:20231104T170000
DTSTAMP:20230921T111659Z
URL:https://cafeculturelcitoyen.org/evenements/atelier-decouverte-de-la-da
 nse-en-cercle/
SUMMARY:Atelier découverte de la Danse en Cercle
DESCRIPTION:« Partout dans le monde\, et de tout temps\, les peuples ont d
 ansé en cercle. Le rond symbolise l’égalité. Symbole très simple à 
 percevoir\, puisqu’il ne peut pas y avoir de préséance dans un cercle 
 de danseurs.\n\nLa ronde est la forme de danse collective la plus ancienne
  qui nous soit parvenue. Chaque individu\, face au centre\, danse la mêm
 e chose que ses voisins\, en les tenant par la main. \n\nDans ces danses 
 individuelles\, au sens où chacun danse la même chose\, l’appartenance
  au groupe a une importance capitale. L’esprit de communauté s’y expr
 ime pleinement \; le danseur peut sentir qu’il fait partie de quelque ch
 ose de plus grand que lui. »\n\nL objectif de la danse en cercle est de c
 réer un espace et un temps privilégiés pour s’exprimer par le biais d
 u corps et d’échanger avec les autres individus\, ce qui permet d’aug
 menter le taux vibratoire des membres de la ronde et de promouvoir le bien
  être.\n\nDe par sa nature symbolique\, le cercle représente l'unité ai
 nsi que le flot cyclique et harmonieux de la vie.
ATTACH;FMTTYPE=image/jpeg:https://cafeculturelcitoyen.org/wp-content/uploa
 ds/2023/09/unnamed.jpg
END:VEVENT
BEGIN:VTIMEZONE
TZID:Europe/Paris
X-LIC-LOCATION:Europe/Paris
BEGIN:STANDARD
DTSTART:20231029T020000
TZOFFSETFROM:+0200
TZOFFSETTO:+0100
TZNAME:CET
END:STANDARD
END:VTIMEZONE
END:VCALENDAR