BEGIN:VCALENDAR
VERSION:2.0
PRODID:-//wp-events-plugin.com//7.2.3.1//EN
TZID:Europe/Paris
X-WR-TIMEZONE:Europe/Paris
BEGIN:VEVENT
UID:2261@cafeculturelcitoyen.org
DTSTART;TZID=Europe/Paris:20230428T000000
DTEND;TZID=Europe/Paris:20230428T203000
DTSTAMP:20230426T155948Z
URL:https://cafeculturelcitoyen.org/evenements/atelier-dans-africaine-suiv
 i-dune-projection-de-courts-metrages-et-dune-discussion-avec-lenseignante/
SUMMARY:Atelier Dans africaine\, projection de courts-métrages et discussi
 on avec l'enseignante
DESCRIPTION:Atelier danse africaine\n\nAnimé par Milo Cabieles\, chercheus
 e\, enseignante et interprète de danses d'Afrique de l'ouest. Directrice 
 NIMBA Danza Africana.\n\nLe mouvement est essentiel dans tout système viv
 ant\, la cadence et la pulsation à l'origine des rythmes y sont inscrites
 .\nPeut-être nous pouvons dire que tout mouvement est ancien\, et qu'il e
 st déjà dans la mémoire de la vie et que ce que nous dansons\, c'est se
  souvenir.\n\nQuel est l’objectif de l’atelier ?\n\n??Au cours de cett
 e rencontre nous aborderons un rythme spécifique et à travers celui-ci\,
  nous explorerons les fondements de la corporalité de la danse guinéenne
 \, nous développerons des phrases chorégraphiques pas à pas et nous en 
 ajouterons jusqu'à ce que nous ayons une danse complète avec des mouveme
 nts de style traditionnel et ballet (africain).\n\nQuels sont les bienfait
 s ?\n\n✨L'expérience corporelle de la danse africaine est une activité
  ludique et profonde pour notre système proprioceptif\, corporelle et én
 ergétique grâce à sa polyvalence intrinsèque.\n\n✨La cadence\, le so
 n\, la pulsation\, la proposition de coordination et la spatialité condui
 sent à une implication complète de notre être.\n\n?Cet atelier s'adress
 e à toute personne motivée à vivre une expérience avec la danse africa
 ine\, quelles que soient ses connaissances préalables.\n\nVous êtes tout
 .es.s très bienvenus.es ???\n\n#atelier #danseafricaine\n#folklore #Afriq
 ue\n#culture\n#masterclass\n#danse #danseafricaine\n#cotedazur #paca\n#fra
 nce\n\n&nbsp\;
ATTACH;FMTTYPE=image/jpeg:https://cafeculturelcitoyen.org/wp-content/uploa
 ds/2023/04/Sans-titre.jpeg
END:VEVENT
BEGIN:VTIMEZONE
TZID:Europe/Paris
X-LIC-LOCATION:Europe/Paris
BEGIN:DAYLIGHT
DTSTART:20230326T030000
TZOFFSETFROM:+0100
TZOFFSETTO:+0200
TZNAME:CEST
END:DAYLIGHT
END:VTIMEZONE
END:VCALENDAR