BEGIN:VCALENDAR
VERSION:2.0
PRODID:-//wp-events-plugin.com//7.2.3.1//EN
TZID:Europe/Paris
X-WR-TIMEZONE:Europe/Paris
BEGIN:VEVENT
UID:1513@cafeculturelcitoyen.org
DTSTART;TZID=Europe/Paris:20220412T170000
DTEND;TZID=Europe/Paris:20220412T190000
DTSTAMP:20220411T125138Z
URL:https://cafeculturelcitoyen.org/evenements/atelier-croquis-44/
SUMMARY:Atelier Croquis
DESCRIPTION:Muni d' un carnet tout simple\, d'un crayon ou d'un stylo\, ven
 ez découvrir le plaisir de dessiner en toute liberté avec nous chaque ma
 rdi à partir de 17h !\nPetit carnet ou feuilles toutes simples\, crayons 
 et gomme ou feutres fins et voilà !\nÇa suffit pour découvrir le plaisi
 r de voir sa main suivre peu à peu ce que le regard a choisi et les trace
 s du cheminement vers les traits qui rendent encore plus vivant le croquis
 .\n\n\n&nbsp\;\nLe bar est fermé et nous vous accueillons en qualité d
 ’association\, il est donc nécessaire d’être adhérent-e à l’asso
 ciation APUCAA qui gère le 3C. L’adhésion se fait sur place au café e
 t est à prix libre.\n\n\nPuisqu’il n’y a pas de service au bar\, vous
  pouvez amener avec vous votre bouteille et/ou votre thermos.\n\n\nPour re
 specter les consignes sanitaires\, les places à l’intérieur sont limit
 ées à 20. Le port du masque est obligatoire. Du gel hydroalcoolique est 
 à disposition à l’entrée du 3C. Les distances entre les tables sont r
 espectées.\n&nbsp\;
ATTACH;FMTTYPE=image/jpeg:https://cafeculturelcitoyen.org/wp-content/uploa
 ds/2018/01/Atelier-Croquis.jpg
END:VEVENT
BEGIN:VTIMEZONE
TZID:Europe/Paris
X-LIC-LOCATION:Europe/Paris
BEGIN:DAYLIGHT
DTSTART:20220327T030000
TZOFFSETFROM:+0100
TZOFFSETTO:+0200
TZNAME:CEST
END:DAYLIGHT
END:VTIMEZONE
END:VCALENDAR