BEGIN:VCALENDAR
VERSION:2.0
PRODID:-//wp-events-plugin.com//7.2.3.1//EN
TZID:Europe/Paris
X-WR-TIMEZONE:Europe/Paris
BEGIN:VEVENT
UID:1692@cafeculturelcitoyen.org
DTSTART;TZID=Europe/Paris:20220326T140000
DTEND;TZID=Europe/Paris:20220326T160000
DTSTAMP:20220308T103036Z
URL:https://cafeculturelcitoyen.org/evenements/atelier-cirage-de-pompes/
SUMMARY:Atelier Cirage de Pompes
DESCRIPTION:Vos chaussures ont pris un coup de vieux ? Vous avez des belles
  bottes en cuir mais ne savez pas comment les entretenir ? N'hésitez plus
 . Vincent vous montrera comment faire de A à Z pour avoir donner un coup 
 de neuf à vos pompes. Atelier gratuit.
ATTACH;FMTTYPE=image/jpeg:https://cafeculturelcitoyen.org/wp-content/uploa
 ds/2022/03/Sans-titre22.jpg
END:VEVENT
BEGIN:VTIMEZONE
TZID:Europe/Paris
X-LIC-LOCATION:Europe/Paris
BEGIN:STANDARD
DTSTART:20211031T020000
TZOFFSETFROM:+0200
TZOFFSETTO:+0100
TZNAME:CET
END:STANDARD
END:VTIMEZONE
END:VCALENDAR