BEGIN:VCALENDAR
VERSION:2.0
PRODID:-//wp-events-plugin.com//7.2.3.1//EN
TZID:Europe/Paris
X-WR-TIMEZONE:Europe/Paris
BEGIN:VEVENT
UID:2118@cafeculturelcitoyen.org
DTSTART;TZID=Europe/Paris:20230227T170000
DTEND;TZID=Europe/Paris:20230227T200000
DTSTAMP:20230226T123313Z
URL:https://cafeculturelcitoyen.org/evenements/atelier-banderole-pour-la-j
 ournee-des-droits-des-femmes/
SUMMARY:Premier atelier banderole pour la Journée des droits des femmes
DESCRIPTION:Rejoignez-nous le 27 février pouir réaliser des banderoles f
 éministes en préparation de la journée du 8 mars !\n\nDeux types de ban
 deroles et affiches seront conçues : grève des femmes le 8 mars\, et slo
 gans féministes variés.\n\nNous pourrons fièrement arborer ces affiches
  et banderoles lors de la manif du 8 mars à Marseille\, mais aussi à nos
  fenêtres en préparation de l'événément.\n\nPour promouvoir cet évé
 nement et partager l'appel à la grève nationale\, le collectif Marseille
  8 Mars : vous pouvez suivre leur tuto pour le faire chez vous\n\nMais ce 
 serait mieux de le faire en live\, et nous rejoindre le lundi 27 février 
 au 3c pour fabriquer les supports de manif.\n\nMatos fourni !
ATTACH;FMTTYPE=image/jpeg:https://cafeculturelcitoyen.org/wp-content/uploa
 ds/2023/02/Capture-decran-2022-10-19-114818.png
END:VEVENT
BEGIN:VTIMEZONE
TZID:Europe/Paris
X-LIC-LOCATION:Europe/Paris
BEGIN:STANDARD
DTSTART:20221030T020000
TZOFFSETFROM:+0200
TZOFFSETTO:+0100
TZNAME:CET
END:STANDARD
END:VTIMEZONE
END:VCALENDAR