BEGIN:VCALENDAR
VERSION:2.0
PRODID:-//wp-events-plugin.com//7.2.3.1//EN
TZID:Europe/Paris
X-WR-TIMEZONE:Europe/Paris
BEGIN:VEVENT
UID:2123@cafeculturelcitoyen.org
DTSTART;TZID=Europe/Paris:20230307T170000
DTEND;TZID=Europe/Paris:20230307T200000
DTSTAMP:20230226T123252Z
URL:https://cafeculturelcitoyen.org/evenements/atelier-banderole-pour-la-j
 ournee-des-droits-des-femmes-2/
SUMMARY:Deuxième atelier banderole pour la Journée des droits des femmes
DESCRIPTION:Rejoignez-nous le 7 mars pour réaliser des banderoles féminis
 tes de la journée du 8 mars !\n\nCe deuxième atelier fait suite à celui
  du 27 février où nous aurons préparé des banderoles et des slogans d'
 appel à la grève. Celui-ci se consacrera notamment aux banderoles et aff
 iches pour le lendemain : 8 mars.\n\nMatos fourni !
ATTACH;FMTTYPE=image/jpeg:https://cafeculturelcitoyen.org/wp-content/uploa
 ds/2023/02/Capture-decran-2022-10-19-114818.png
END:VEVENT
BEGIN:VTIMEZONE
TZID:Europe/Paris
X-LIC-LOCATION:Europe/Paris
BEGIN:STANDARD
DTSTART:20221030T020000
TZOFFSETFROM:+0200
TZOFFSETTO:+0100
TZNAME:CET
END:STANDARD
END:VTIMEZONE
END:VCALENDAR