BEGIN:VCALENDAR
VERSION:2.0
PRODID:-//wp-events-plugin.com//7.2.3.1//EN
TZID:Europe/Paris
X-WR-TIMEZONE:Europe/Paris
BEGIN:VEVENT
UID:2014@cafeculturelcitoyen.org
DTSTART;TZID=Europe/Paris:20230122T093000
DTEND;TZID=Europe/Paris:20230122T160000
DTSTAMP:20230117T171425Z
URL:https://cafeculturelcitoyen.org/evenements/assemblee-generale-du-3-c/
SUMMARY:Assemblée générale du 3 C
DESCRIPTION:Nous vous attendons nombreuses et nombreux à notre assemblée 
 générale annuelle.\n\nL'ordre du jour\n\n 	Accueil des participant-es : 
 9h30 à 10h\n 	Présentation du bilan moral\n 	Présentation du bilan fina
 ncier\n 	Pause et repas partagé\n\nReprise de l'AG à 14h\n\n 	Question :
  est-il possible de maintenir le 3C ? Si oui dans quelles conditions ?\n 	
 Renouvellement du Collège solidaire (à l'heure actuelle\, au moins 3 mem
 bres sur 6 ne se représentent pas).\n 	Perspectives de l'Association et q
 uestions diverses\n\nVous pouvez venir avec toutes les bonnes préparation
 s que vous aimez pour participer au repas.\nSi vous ne pouvez pas être pr
 ésent\, vous pouvez vous faire représenter par un membre de l’associat
 ion de votre choix en lui remettant votre procuration ou en nous l’envoy
 ant\, dûment complétée.  (Ci-dessous)\nAssociation APUCAA\n23 Bd Carno
 t\n13100 AIX EN PROVENCE\nNom :\nPrénom :\nAdresse :\n\nDonne pouvoir à\
 nNom :\nPrénom :\nmembre de l’association APUCAA pour me représenter 
 à l’Assemblée Générale qui a lieu le\n22 Janvier 2023 au 3C à Aix e
 n Provence.\n\nFait à Le\n\n&nbsp\;\n\n&nbsp\;\n\n&nbsp\;\n\n&nbsp\;
ATTACH;FMTTYPE=image/jpeg:https://cafeculturelcitoyen.org/wp-content/uploa
 ds/2023/01/Capture-decran-2022-09-14-182343.jpg
END:VEVENT
BEGIN:VTIMEZONE
TZID:Europe/Paris
X-LIC-LOCATION:Europe/Paris
BEGIN:STANDARD
DTSTART:20221030T020000
TZOFFSETFROM:+0200
TZOFFSETTO:+0100
TZNAME:CET
END:STANDARD
END:VTIMEZONE
END:VCALENDAR