BEGIN:VCALENDAR
VERSION:2.0
PRODID:-//wp-events-plugin.com//7.2.3.1//EN
TZID:Europe/Paris
X-WR-TIMEZONE:Europe/Paris
BEGIN:VEVENT
UID:1471@cafeculturelcitoyen.org
DTSTART;TZID=Europe/Paris:20220424T100000
DTEND;TZID=Europe/Paris:20220424T200000
DTSTAMP:20220422T202003Z
URL:https://cafeculturelcitoyen.org/evenements/assemblee-generale-annuelle
 -de-lassociation-apucaa-2/
SUMMARY:Assemblée Générale annuelle de l'association APUCAA
DESCRIPTION:Bonjour cher-e-s adhérent-e-s\,\n\nVous êtes invité-e-s à l
 'Assemblée Générale de l'APUCAA qui gère le 3C\, le dimanche 24 avril 
 qui débutera à 10h. Ce sera l'occasion de faire le bilan de l'année 202
 1.\n\nC'est ce jour-là que nous renouvelons le Collège Solidaire qui rep
 résente légalement l'association. Sept membres (au minimum) seront élus
  pour gérer collectivement les aspects internes du 3C (comptabilité\, re
 ssources humaines\, gestion des conflits...). Pour cela\, nous avons besoi
 n de personnes motivées  ! Si vous souhaitez vous présenter et/ou en sa
 voir plus sur les activités du Collège Solidaire\, vous pouvez nous envo
 yer un mail à cafeassociatifaixois@gmail.com\, vos candidatures sont les 
 bienvenues.\n\nMerci pour votre présence\, nous avons besoin de vos votes
  ! Si vous ne pouvez pas assister à l'AG\, vous pouvez vous faire représ
 enter par un membre de l’association de votre choix en lui remettant vot
 re procuration ou en nous l’envoyant complétée (un seul pouvoir par ad
 hérent présent) : document à télécharger ici.\n\nProgramme :\n\n* Acc
 ueil des participants de 09h30 à 10h\n* Présentation du Bilan Moral\n* P
 résentation du Bilan Financier\n* Votes\n\nPause et repas partagé - Vos 
 plats sont les bienvenus pour participer au repas !\n\n* Renouvellement du
  Collège Solidaire\n* Perspectives de l’association et questions divers
 es\n\n&nbsp\;\n\nCitoyennement\,\n\n&nbsp\;\n\nL'équipe du 3C
ATTACH;FMTTYPE=image/jpeg:https://cafeculturelcitoyen.org/wp-content/uploa
 ds/2018/07/3CEte-Ban.jpg
END:VEVENT
BEGIN:VTIMEZONE
TZID:Europe/Paris
X-LIC-LOCATION:Europe/Paris
BEGIN:DAYLIGHT
DTSTART:20220327T030000
TZOFFSETFROM:+0100
TZOFFSETTO:+0200
TZNAME:CEST
END:DAYLIGHT
END:VTIMEZONE
END:VCALENDAR