BEGIN:VCALENDAR
VERSION:2.0
PRODID:-//wp-events-plugin.com//7.2.3.1//EN
TZID:Europe/Paris
X-WR-TIMEZONE:Europe/Paris
BEGIN:VEVENT
UID:1926@cafeculturelcitoyen.org
DTSTART;TZID=Europe/Paris:20221015T170000
DTEND;TZID=Europe/Paris:20221015T190000
DTSTAMP:20221012T093244Z
URL:https://cafeculturelcitoyen.org/evenements/assemble-generale-de-youth-
 for-climate/
SUMMARY:Assemblée générale de Youth for Climate
DESCRIPTION:Youth for Climate est un mouvement citoyen implanté en  Belgi
 que et en France\, s'inscrivant dans l'initiative Fridays for Future initi
 ée par la militante écologiste Greta Thunberg dans le cadre de la lutte 
 contre le réchauffement climatique.\n\nLancé en février 2019\, Youth Fo
 r Climate France se définit comme « un mouvement de jeunes qui se mobil
 isent pour la justice climatique et sociale\, la protection de l’environ
 nement et de la biodiversité ».\n\nAprès avoir débuté en organisant 
 des marches hebdomadaires\, le mouvement se radicalise et\, fin 2019\, pr
 ône des actions directes de lutte anticapitaliste\n\nAu programme de l'AG
  : présentation du collectif et de nos actions\, récapitulatif de la mob
 ilisation de septembre \; propositions d'actions futures\,  point sur l'o
 rganisation et les moyens de communication au sein de YFC.\n\nVenez nombre
 ux et nombreuses assister à l'assemblée générale !
ATTACH;FMTTYPE=image/jpeg:https://cafeculturelcitoyen.org/wp-content/uploa
 ds/2022/10/Capture-decran-2022-10-12-112552.jpg
END:VEVENT
BEGIN:VTIMEZONE
TZID:Europe/Paris
X-LIC-LOCATION:Europe/Paris
BEGIN:DAYLIGHT
DTSTART:20220327T030000
TZOFFSETFROM:+0100
TZOFFSETTO:+0200
TZNAME:CEST
END:DAYLIGHT
END:VTIMEZONE
END:VCALENDAR