BEGIN:VCALENDAR
VERSION:2.0
PRODID:-//wp-events-plugin.com//7.2.3.1//EN
TZID:Europe/Paris
X-WR-TIMEZONE:Europe/Paris
BEGIN:VEVENT
UID:2571@cafeculturelcitoyen.org
DTSTART;TZID=Europe/Paris:20231115T183000
DTEND;TZID=Europe/Paris:20231115T200000
DTSTAMP:20231110T182011Z
URL:https://cafeculturelcitoyen.org/evenements/artexplora/
SUMMARY:Art Explora Fondation
DESCRIPTION:\nLa Fondation Art Explora a choisi de rencontrer ses bénévol
 es au 3C\nUne présentation de la fondation sera suivi des formes d'engage
 ment que peuvent prendre le bénévolat pour favoriser le partage de la cu
 lture avec le plus grand nombre\n\n\nInscription : benevoles@artexplora.or
 g                               \n\n\nEt ens
 uite\, vous pouvez continuer en musique\, c'est JAM JAM JAZZ au 3C\n\n\n\n
 \n
ATTACH;FMTTYPE=image/jpeg:https://cafeculturelcitoyen.org/wp-content/uploa
 ds/2023/11/Art-Explora_20231115-e1699639634174.png
END:VEVENT
BEGIN:VTIMEZONE
TZID:Europe/Paris
X-LIC-LOCATION:Europe/Paris
BEGIN:STANDARD
DTSTART:20231029T020000
TZOFFSETFROM:+0200
TZOFFSETTO:+0100
TZNAME:CET
END:STANDARD
END:VTIMEZONE
END:VCALENDAR