BEGIN:VCALENDAR
VERSION:2.0
PRODID:-//wp-events-plugin.com//7.2.3.1//EN
TZID:Europe/Paris
X-WR-TIMEZONE:Europe/Paris
BEGIN:VEVENT
UID:1493@cafeculturelcitoyen.org
DTSTART;TZID=Europe/Paris:20230210T203000
DTEND;TZID=Europe/Paris:20230210T230000
DTSTAMP:20230130T160712Z
URL:https://cafeculturelcitoyen.org/evenements/arenes-de-limpro-places-lim
 itees/
SUMMARY:Arènes de l'impro (Places limitées)
DESCRIPTION:Les Fondus viennent improviser au 3C pour un public réduit !\n
 Pour ces Arènes de l'impro un peu spéciales\, Les Fondus combattront tou
 s les uns contre les autres pour la première fois de l'histoire des arèn
 es ! 9 Fondus vont en découdre !\n9 gladiateurs…\n3 sénateurs pour les
  juger…\nUne arène remplie de spectateurs…\nA la fin\, un seul des gl
 adiateurs prendra place parmi les dieux ! _______________________________\
 n&nbsp\;\n\n&nbsp\;
ATTACH;FMTTYPE=image/jpeg:https://cafeculturelcitoyen.org/wp-content/uploa
 ds/2017/09/visuel-arenes-3C-big.jpg
END:VEVENT
BEGIN:VTIMEZONE
TZID:Europe/Paris
X-LIC-LOCATION:Europe/Paris
BEGIN:STANDARD
DTSTART:20221030T020000
TZOFFSETFROM:+0200
TZOFFSETTO:+0100
TZNAME:CET
END:STANDARD
END:VTIMEZONE
END:VCALENDAR