BEGIN:VCALENDAR
VERSION:2.0
PRODID:-//wp-events-plugin.com//7.2.3.1//EN
TZID:Europe/Paris
X-WR-TIMEZONE:Europe/Paris
BEGIN:VEVENT
UID:2122@cafeculturelcitoyen.org
DTSTART;TZID=Europe/Paris:20230311T173000
DTEND;TZID=Europe/Paris:20230311T200000
DTSTAMP:20230226T122429Z
URL:https://cafeculturelcitoyen.org/evenements/apres-midi-popcorn-et-cine-
 club-projection-de-persepolis-semaine-feministe-du-8-mars/
SUMMARY:Après-midi Popcorn et Ciné-Club - Projection de Persepolis (semai
 ne féministe du "8 mars")
DESCRIPTION:Merveilleux dessin animé tiré de la BD de Marjane Satrapi : p
 our faire le lien entre l'Iran d'hier et celui d'aujourd'hui dont les femm
 es (notamment) veulent se libérer.\n\nFilm suivi d'un débat avant le con
 cert du soir\n\n"La politique est incontournable dans ce film\, bien enten
 du. Comment parler de l'Iran des années 70-80 sans évoquer la politique\
 , les bouleversements imposés dans la vie d'une population qui se délivr
 era d'une dictature pour rentrer de plein pied dans une autre ?\n\nMais\, 
 à chaque fois\, la politique est vue par le regard de Marjane et évolue 
 donc tout au long de l'enfance puis de l'adolescence de la jeune femme.\n\
 nC'est ce qui donne son ton à ce film. A la gravité des scènes révolut
 ionnaires succède la légèreté de l'enfance. Il y a les jeux avec les c
 amarades. Il y a les dialogues des adultes\, que la jeune fille ne peut to
 talement assimiler. ET le film navigue constamment comme cela\, entre visi
 on de la société iranienne et autobiographie de Marjane Satrapi."\n\n(Ar
 ticle de San Felice sur le site Sens Critique)
ATTACH;FMTTYPE=image/jpeg:https://cafeculturelcitoyen.org/wp-content/uploa
 ds/2023/02/Capture-decran-2023-02-26-131307.png
END:VEVENT
BEGIN:VTIMEZONE
TZID:Europe/Paris
X-LIC-LOCATION:Europe/Paris
BEGIN:STANDARD
DTSTART:20221030T020000
TZOFFSETFROM:+0200
TZOFFSETTO:+0100
TZNAME:CET
END:STANDARD
END:VTIMEZONE
END:VCALENDAR