BEGIN:VCALENDAR
VERSION:2.0
PRODID:-//wp-events-plugin.com//7.2.3.1//EN
TZID:Europe/Paris
X-WR-TIMEZONE:Europe/Paris
BEGIN:VEVENT
UID:2612@cafeculturelcitoyen.org
DTSTART;TZID=Europe/Paris:20231225T140000
DTEND;TZID=Europe/Paris:20231225T190000
DTSTAMP:20231205T105720Z
URL:https://cafeculturelcitoyen.org/evenements/apres-midi-du-25-decembre-a
 u-3c/
SUMMARY:Après midi du 25 décembre au 3C
DESCRIPTION:&nbsp\;\n\nLe 3C est en vacances\, mais pour le plaisir de nous
  retrouver en ce moment de Noël où solidarité et partage riment avec no
 s valeurs\, les portes sont ouvertes ce jour de 14h à 19h. Alors\, si tu 
 es seul.e ou accompagné.e\, vient partager ce moment avec nous
ATTACH;FMTTYPE=image/jpeg:https://cafeculturelcitoyen.org/wp-content/uploa
 ds/2023/12/Noel-scaled.jpg
END:VEVENT
BEGIN:VTIMEZONE
TZID:Europe/Paris
X-LIC-LOCATION:Europe/Paris
BEGIN:STANDARD
DTSTART:20231029T020000
TZOFFSETFROM:+0200
TZOFFSETTO:+0100
TZNAME:CET
END:STANDARD
END:VTIMEZONE
END:VCALENDAR