BEGIN:VCALENDAR
VERSION:2.0
PRODID:-//wp-events-plugin.com//7.2.3.1//EN
TZID:Europe/Paris
X-WR-TIMEZONE:Europe/Paris
BEGIN:VEVENT
UID:2130@cafeculturelcitoyen.org
DTSTART;TZID=Europe/Paris:20230304T140000
DTEND;TZID=Europe/Paris:20230304T180000
DTSTAMP:20230226T192515Z
URL:https://cafeculturelcitoyen.org/evenements/apres-midi-avec-le-troll-fr
 ingant-5/
SUMMARY:Après midi avec le Troll Fringant
DESCRIPTION:Oyez\, oyez !\n\nTous les premiers samedis du mois le Troll Fri
 ngant sort de sa hutte.
ATTACH;FMTTYPE=image/jpeg:https://cafeculturelcitoyen.org/wp-content/uploa
 ds/2017/09/bannière-trollv2.jpg
END:VEVENT
BEGIN:VTIMEZONE
TZID:Europe/Paris
X-LIC-LOCATION:Europe/Paris
BEGIN:STANDARD
DTSTART:20221030T020000
TZOFFSETFROM:+0200
TZOFFSETTO:+0100
TZNAME:CET
END:STANDARD
END:VTIMEZONE
END:VCALENDAR