BEGIN:VCALENDAR
VERSION:2.0
PRODID:-//wp-events-plugin.com//7.2.3.1//EN
TZID:Europe/Paris
X-WR-TIMEZONE:Europe/Paris
BEGIN:VEVENT
UID:1927@cafeculturelcitoyen.org
DTSTART;TZID=Europe/Paris:20221005T140000
DTEND;TZID=Europe/Paris:20221005T180000
DTSTAMP:20221012T142433Z
URL:https://cafeculturelcitoyen.org/evenements/apres-midi-avec-le-troll-fr
 ingant-2/
SUMMARY:Après midi avec le Troll Fringant
DESCRIPTION:Oyez\, oyez !\n\nTous les premiers samedis du mois le Troll Fri
 ngant sort de sa hutte.\n\nVenez le retrouver pour un après midi jeux de 
 plateau\, jeux de rôle et autres loups-garous. Que vous soyez entre amis 
 ou vouliez faire des nouvelles rencontres\, nous vous attendons de 13h00 
 à 18h00 au 3C!
ATTACH;FMTTYPE=image/jpeg:https://cafeculturelcitoyen.org/wp-content/uploa
 ds/2017/09/bannière-trollv2.jpg
END:VEVENT
BEGIN:VTIMEZONE
TZID:Europe/Paris
X-LIC-LOCATION:Europe/Paris
BEGIN:DAYLIGHT
DTSTART:20220327T030000
TZOFFSETFROM:+0100
TZOFFSETTO:+0200
TZNAME:CEST
END:DAYLIGHT
END:VTIMEZONE
END:VCALENDAR