BEGIN:VCALENDAR
VERSION:2.0
PRODID:-//wp-events-plugin.com//7.2.3.1//EN
TZID:Europe/Paris
X-WR-TIMEZONE:Europe/Paris
BEGIN:VEVENT
UID:2013@cafeculturelcitoyen.org
DTSTART;TZID=Europe/Paris:20230127T173000
DTEND;TZID=Europe/Paris:20230127T193000
DTSTAMP:20230104T101734Z
URL:https://cafeculturelcitoyen.org/evenements/apero-dinatoire-confederati
 on-paysanne-de-soutien-au-3c/
SUMMARY:Apéro dînatoire - Confédération paysanne de soutien au 3C
DESCRIPTION:Soupes préparées par les bénévoles du 3C\, victuailles dive
 rses apportées par la Conf'\, et partagés en commun. Le tout en soutien 
 au 3C avant la conférence qui suit
ATTACH;FMTTYPE=image/jpeg:https://cafeculturelcitoyen.org/wp-content/uploa
 ds/2023/01/Capture-decran-2022-12-15-093602.png
END:VEVENT
BEGIN:VTIMEZONE
TZID:Europe/Paris
X-LIC-LOCATION:Europe/Paris
BEGIN:STANDARD
DTSTART:20221030T020000
TZOFFSETFROM:+0200
TZOFFSETTO:+0100
TZNAME:CET
END:STANDARD
END:VTIMEZONE
END:VCALENDAR