BEGIN:VCALENDAR
VERSION:2.0
PRODID:-//wp-events-plugin.com//7.2.3.1//EN
TZID:Europe/Paris
X-WR-TIMEZONE:Europe/Paris
BEGIN:VEVENT
UID:2008@cafeculturelcitoyen.org
DTSTART;TZID=Europe/Paris:20230127T140000
DTEND;TZID=Europe/Paris:20230127T173000
DTSTAMP:20230101T213634Z
URL:https://cafeculturelcitoyen.org/evenements/ag-de-la-confederation-pays
 anne-buffet-campagnard-et-conference-du-grec-sud/
SUMMARY:AG de la Confédération paysanne (fermé au public)
DESCRIPTION:La Confédération paysanne des Bouches du Rhône tient son AG 
 annuel de 14 à 17h30.\n\nCette séquence est privée et donc fermée au p
 ublic. L'AG sera suivie d'une  conférence publique à 19h heures par le 
 GREC-SUD\, le GIEC régional\, sur le changement climatique dans notre ré
 gion et département.
ATTACH;FMTTYPE=image/jpeg:https://cafeculturelcitoyen.org/wp-content/uploa
 ds/2023/01/20180328193928hWBW.jpg
END:VEVENT
BEGIN:VTIMEZONE
TZID:Europe/Paris
X-LIC-LOCATION:Europe/Paris
BEGIN:STANDARD
DTSTART:20221030T020000
TZOFFSETFROM:+0200
TZOFFSETTO:+0100
TZNAME:CET
END:STANDARD
END:VTIMEZONE
END:VCALENDAR