BEGIN:VCALENDAR
VERSION:2.0
PRODID:-//wp-events-plugin.com//7.2.3.1//EN
TZID:Europe/Paris
X-WR-TIMEZONE:Europe/Paris
BEGIN:VEVENT
UID:2460@cafeculturelcitoyen.org
DTSTART;TZID=Europe/Paris:20231213T180000
DTEND;TZID=Europe/Paris:20231213T220000
DTSTAMP:20231123T120639Z
URL:https://cafeculturelcitoyen.org/evenements/after-work-forum-sourds-et-
 connectes/
SUMMARY:After Work Forum Sourds et Connectés
DESCRIPTION:Pour clore le forum Sourds et Connecté se déroulant le 13 dé
 cembre de 9h à 17h au centre des congrés d'Aix-en-Provence\, les membres
  de l'association Urapeda se réuniront au 3C pour fêter la fin du forum.
 \n\nVenez partager le verre de l'amitié avec les membres de cette associa
 tion œuvrant depuis 30 ans au service des personnes sourdes\, malentendan
 tes ou en autre situations de handicap.\n\n&nbsp\;\n\nTélécharger le bul
 letin d'inscription au forum\n\nTélécharger l'affichette DBAO juillet 20
 23
ATTACH;FMTTYPE=image/jpeg:https://cafeculturelcitoyen.org/wp-content/uploa
 ds/2023/11/SOURDSCONNECTES_2023_SEPT-1-1-e1699972452572.png
END:VEVENT
BEGIN:VTIMEZONE
TZID:Europe/Paris
X-LIC-LOCATION:Europe/Paris
BEGIN:STANDARD
DTSTART:20231029T020000
TZOFFSETFROM:+0200
TZOFFSETTO:+0100
TZNAME:CET
END:STANDARD
END:VTIMEZONE
END:VCALENDAR