BEGIN:VCALENDAR
VERSION:2.0
PRODID:-//wp-events-plugin.com//7.2.3.1//EN
TZID:Europe/Paris
X-WR-TIMEZONE:Europe/Paris
BEGIN:VEVENT
UID:1706@cafeculturelcitoyen.org
DTSTART;TZID=Europe/Paris:20220416T210000
DTEND;TZID=Europe/Paris:20220416T220000
DTSTAMP:20220330T152639Z
URL:https://cafeculturelcitoyen.org/evenements/ada-mondes-ecrire-debout/
SUMMARY:Ada Mondès : Ecrire Debout
DESCRIPTION:Ada Mondès est poète\, comédienne\, chanteuse\, traductrice 
 en somme une artiste pluri-disciplinaire. Ada est aussi nomade et parcourt
  le monde en donnant à ses aventures la forme de spectacles poétiques. N
 ous aurons l'occasion de voir et participer à son seule en scène cette f
 ois ci :  Écrire Debout : Carnet de voyage vivant &amp\; Paysages cubain
 s avec pluie \nJe vous écris d’un pays lointain…\nAprès des années 
 d’aventures aux quatre coins du monde\, voici Écrire Debout\, une\nheur
 e de carnet de voyage vivant en V.O.V.T – version originale &amp\; versi
 on traduite –\noù les spectateurs sont invités à tirer au sort les de
 stinations pour construire un\nvoyage inédit. On y entend de l’espagnol
 \, beaucoup\, étant donné de nombreux\nséjours en Amérique Latine \; a
 ussi du russe\, du brésilien\, de l’indonésien\, du maori…\nÀ la qu
 estion « que reste-t-il des voyages ? »\, c’est l’écriture chez moi
  qui répond\,\nc’est-à-dire le partage\, la transmission.\nÀ la quest
 ion « pourquoi la poésie ? »\, je dis que tout le monde aime qu’on lu
 i\nraconte des histoires. Le poème inquiète\, le récit fascine : voici 
 des histoires\npoétiques.\nhttps://www.youtube.com/watch?v=yiNC2rMnE-8
ATTACH;FMTTYPE=image/jpeg:https://cafeculturelcitoyen.org/wp-content/uploa
 ds/2022/03/Sans-titre85.jpg
END:VEVENT
BEGIN:VTIMEZONE
TZID:Europe/Paris
X-LIC-LOCATION:Europe/Paris
BEGIN:DAYLIGHT
DTSTART:20220327T030000
TZOFFSETFROM:+0100
TZOFFSETTO:+0200
TZNAME:CEST
END:DAYLIGHT
END:VTIMEZONE
END:VCALENDAR