BEGIN:VCALENDAR
VERSION:2.0
PRODID:-//wp-events-plugin.com//7.2.3.1//EN
TZID:Europe/Paris
X-WR-TIMEZONE:Europe/Paris
BEGIN:VEVENT
UID:2015@cafeculturelcitoyen.org
DTSTART;TZID=Europe/Paris:20230128T150000
DTEND;TZID=Europe/Paris:20230128T170000
DTSTAMP:20230120T153436Z
URL:https://cafeculturelcitoyen.org/evenements/accueil-des-nouvelles-et-no
 uveaux-adherent-e-s-dattac-pays-daix/
SUMMARY:Accueil des nouvelles et nouveaux adhérent.e.s d'Attac pays d'Aix
  
DESCRIPTION:Accueil des nouvelles et nouveaux adhérent.e.s d'Attac pays d'
 Aix \n\nAttac pays d'Aix invite autour d'un verre au 3C\, ses nouvelles e
 t nouveaux adhérent.e.s  2022 et 2023 ou qui sont arrivé.e.s à Aix l'a
 n dernier\, afin de mieux faire connaissance et de présenter Attac et l'a
 ctivité de notre comité local.\n\nSéance ouverte aussi aux plus ancien.
 ne.s qui ont raté ces réunions d'accueil ou souhaiteraient en savoir plu
 s sur Attac et qui souhaiteraient faire connaissance avec les nouvelles et
  nouveaux.\n\nNous vous présenterons l'historique d'Attac France et son f
 onctionnement\,\n\nNous vous présenterons ensuite l'activité d'Attac pay
 s d'Aix\, son fonctionnement\, ses actions.\n\nNous échangerons sur vos a
 ttentes et ce que vous souhaitez apporter\, vos idées\, vos suggestions .
 ..\n\nCette réunion d'accueil ne vous engage à rien\, si vous n'avez pas
  de temps à consacrer au comité local\, nous serons ravies de vous accue
 illir quand même.\n\nA très bientôt !\n\nL'équipe d'animation d'Attac 
 pays d'Aix
ATTACH;FMTTYPE=image/jpeg:https://cafeculturelcitoyen.org/wp-content/uploa
 ds/2023/01/Capture-decran-2023-01-20-151738.png
END:VEVENT
BEGIN:VTIMEZONE
TZID:Europe/Paris
X-LIC-LOCATION:Europe/Paris
BEGIN:STANDARD
DTSTART:20221030T020000
TZOFFSETFROM:+0200
TZOFFSETTO:+0100
TZNAME:CET
END:STANDARD
END:VTIMEZONE
END:VCALENDAR