BEGIN:VCALENDAR
VERSION:2.0
PRODID:-//wp-events-plugin.com//7.2.3.1//EN
TZID:Europe/Paris
X-WR-TIMEZONE:Europe/Paris
BEGIN:VEVENT
UID:2348@cafeculturelcitoyen.org
DTSTART;TZID=Europe/Paris:20230929T203000
DTEND;TZID=Europe/Paris:20230929T223000
DTSTAMP:20230816T070426Z
URL:https://cafeculturelcitoyen.org/evenements/6097/
SUMMARY:Germàn Roffler\, "Tuneles"- Concert latino (Argentine)
DESCRIPTION:GERMÁN ROFFLER EST CHANTEUR\, MUSICIEN\, ARRANGEUR\, PRODUCTEU
 R ET COMPOSITEUR. SES CHANSONS SONT INFLUENCÉES PAR LA MUSIQUE POPULAIRE 
 ARGENTINE ET LATINO-AMÉRICAINE\, ON Y TROUVE DES GESTES DE LA MUSIQUE\nTR
 ADITIONNELLE ET CONTEMPORAINE.\nIL PRÉSENTE ACTUELLEMENT "TÚNELES"\, SON
  DEUXIÈME ALBUM SOLO.\nIl comprend huit chansons originales\, enregistré
 es entre avril et décembre 2020. La musique et les paroles explorent diff
 érents langages de la chanson populaire\, générant un cadre qui combine
  : "des mélodies et des rythmes de conception pointilleuse\, des couleurs
  harmoniques modernes et un haut teneur poétique".\n\nhttps://mail.google
 .com/mail/u/1/?tab=km#sear/germanroffler%40gmail.com?projector=1\n\nhttps:
 //www.youtube.com/watch?v=aIgQNI7-X9s
ATTACH;FMTTYPE=image/jpeg:https://cafeculturelcitoyen.org/wp-content/uploa
 ds/2023/08/Capture-decran-2023-08-16-090307.png
END:VEVENT
BEGIN:VTIMEZONE
TZID:Europe/Paris
X-LIC-LOCATION:Europe/Paris
BEGIN:DAYLIGHT
DTSTART:20230326T030000
TZOFFSETFROM:+0100
TZOFFSETTO:+0200
TZNAME:CEST
END:DAYLIGHT
END:VTIMEZONE
END:VCALENDAR